BEGIN:VCALENDAR
VERSION:2.0
PRODID:-//Ouistreham Riva-Bella - ECPv6.15.20//NONSGML v1.0//EN
CALSCALE:GREGORIAN
METHOD:PUBLISH
X-ORIGINAL-URL:https://ouistreham-rivabella.fr
X-WR-CALDESC:Évènements pour Ouistreham Riva-Bella
REFRESH-INTERVAL;VALUE=DURATION:PT1H
X-Robots-Tag:noindex
X-PUBLISHED-TTL:PT1H
BEGIN:VTIMEZONE
TZID:Europe/Paris
BEGIN:DAYLIGHT
TZOFFSETFROM:+0100
TZOFFSETTO:+0200
TZNAME:CEST
DTSTART:20250330T010000
END:DAYLIGHT
BEGIN:STANDARD
TZOFFSETFROM:+0200
TZOFFSETTO:+0100
TZNAME:CET
DTSTART:20251026T010000
END:STANDARD
BEGIN:DAYLIGHT
TZOFFSETFROM:+0100
TZOFFSETTO:+0200
TZNAME:CEST
DTSTART:20260329T010000
END:DAYLIGHT
BEGIN:STANDARD
TZOFFSETFROM:+0200
TZOFFSETTO:+0100
TZNAME:CET
DTSTART:20261025T010000
END:STANDARD
BEGIN:DAYLIGHT
TZOFFSETFROM:+0100
TZOFFSETTO:+0200
TZNAME:CEST
DTSTART:20270328T010000
END:DAYLIGHT
BEGIN:STANDARD
TZOFFSETFROM:+0200
TZOFFSETTO:+0100
TZNAME:CET
DTSTART:20271031T010000
END:STANDARD
END:VTIMEZONE
BEGIN:VEVENT
DTSTART;TZID=Europe/Paris:20260426T120000
DTEND;TZID=Europe/Paris:20260426T123000
DTSTAMP:20260425T164950
CREATED:20260401T095634Z
LAST-MODIFIED:20260401T095634Z
UID:59418-1777204800-1777206600@ouistreham-rivabella.fr
SUMMARY:Cérémonie commémorative de la journée nationale du souvenir des victimes et des héros de la déportation
DESCRIPTION:Cérémonie commémorative de la journée nationale du souvenir des victimes et des héros de la déportation \nDimanche 26 avril à 12h – Monument aux morts
URL:https://ouistreham-rivabella.fr/event/ceremonie-commemorative-de-la-journee-nationale-du-souvenir-des-victimes-et-des-heros-de-la-deportation/
LOCATION:Monument aux Morts\, Place Albert Lemarignier\, Ouistreham\, 14150\, France
ATTACH;FMTTYPE=image/jpeg:https://ouistreham-rivabella.fr/wp-content/uploads/2025/05/1-Monument-aux-morts-SophieMarteil-2-scaled.jpg
END:VEVENT
BEGIN:VEVENT
DTSTART;TZID=Europe/Paris:20260428T170000
DTEND;TZID=Europe/Paris:20260428T180000
DTSTAMP:20260425T164950
CREATED:20251212T090437Z
LAST-MODIFIED:20251212T090437Z
UID:58306-1777395600-1777399200@ouistreham-rivabella.fr
SUMMARY:Motricité en éveil
DESCRIPTION:Motricité en éveil : séance à destination des parents qui souhaitent échanger/ jouer et accompagner la motricité et l’acquisition de la marche de leur enfant (bébé sachant se retourner et commençant à vouloir explorer) avec la présence de Léa Retoux\, kinésithérapeute \nMardi 28 avril de 17h à 18h – Pavillon \nPour les 6 mois et plus \nGratuit sur inscription : tierslieu-ouistreham-rivabella.fr
URL:https://ouistreham-rivabella.fr/event/motricite-en-eveil-6/
LOCATION:Le Pavillon\, 11 rue des arts\, Ouistreham\, 14150\, France
ATTACH;FMTTYPE=image/jpeg:https://ouistreham-rivabella.fr/wp-content/uploads/2025/12/motricite-bebe.jpg
END:VEVENT
BEGIN:VEVENT
DTSTART;TZID=Europe/Paris:20260429T153000
DTEND;TZID=Europe/Paris:20260429T170000
DTSTAMP:20260425T164950
CREATED:20260326T092228Z
LAST-MODIFIED:20260326T092228Z
UID:59339-1777476600-1777482000@ouistreham-rivabella.fr
SUMMARY:Bricolire
DESCRIPTION:Bricolire \nUn bricolage et des lectures \nMercredi 29 avril à 15h30 – Bibliothèque \nDès 4 ans \nSur inscription au 02 31 97 08 43
URL:https://ouistreham-rivabella.fr/event/bricolire-3/
LOCATION:Bibliothèque municipale\, 5 route de lion\, Ouistreham\, 14150\, France
ATTACH;FMTTYPE=image/jpeg:https://ouistreham-rivabella.fr/wp-content/uploads/2024/12/bricolire.jpg
END:VEVENT
BEGIN:VEVENT
DTSTART;TZID=Europe/Paris:20260430T093000
DTEND;TZID=Europe/Paris:20260430T103000
DTSTAMP:20260425T164950
CREATED:20251212T140009Z
LAST-MODIFIED:20251212T140009Z
UID:58431-1777541400-1777545000@ouistreham-rivabella.fr
SUMMARY:Musique et mouvements
DESCRIPTION:Musique et mouvements sous la forme d’un mini-concert par Nuria de l’EMIO \nJeudi 30 avril de 9h30 à 10h30 au Pavillon \nPublic 0-4ans accompagné \nGratuit – Sur inscription : 02 31 25 51 60
URL:https://ouistreham-rivabella.fr/event/musique-et-mouvements-2/
LOCATION:Le Pavillon\, 11 rue des arts\, Ouistreham\, 14150\, France
ATTACH;FMTTYPE=image/jpeg:https://ouistreham-rivabella.fr/wp-content/uploads/2024/09/musique-et-mouvement.jpg
END:VEVENT
BEGIN:VEVENT
DTSTART;TZID=Europe/Paris:20260430T100000
DTEND;TZID=Europe/Paris:20260430T120000
DTSTAMP:20260425T164950
CREATED:20260302T153528Z
LAST-MODIFIED:20260302T153528Z
UID:59077-1777543200-1777550400@ouistreham-rivabella.fr
SUMMARY:Visite commentée du Phare
DESCRIPTION:171 marches à gravir pour arriver 38 mètres plus haut.  \nUne visite privilégiée pour découvrir cet emblème de Ouistreham Riva-Bella et profitez d’une vue imprenable à 360° : à l’Est\, la réserve naturelle de la Pointe du Siège\, à l’Ouest la station balnéaire. Réservation obligatoire. \nJeudi 30 avril à 10h et 10h45 – Phare \nDurée : 30 minutes \nTarif unique : 3.5€ par personne \nSur réservation à l’office de tourisme : \n\nA l’Office de Tourisme et des Congrès de Caen La Mer\, 12 place St Pierre à Caen\nAu Bureau d’Information Touristique de Ouistreham Riva Bella\, Esplanade Lofi\nEn ligne : https://reservation.caenlamer-tourisme.fr
URL:https://ouistreham-rivabella.fr/event/visite-commentee-du-phare-4/
LOCATION:Phare de Ouistreham\, Phare de Ouistreham\, Ouistreham\, 14150\, France
ATTACH;FMTTYPE=image/jpeg:https://ouistreham-rivabella.fr/wp-content/uploads/2022/09/phare-fete-coquille.jpg
END:VEVENT
BEGIN:VEVENT
DTSTART;TZID=Europe/Paris:20260430T103000
DTEND;TZID=Europe/Paris:20260430T120000
DTSTAMP:20260425T164950
CREATED:20251202T125847Z
LAST-MODIFIED:20260119T144419Z
UID:58136-1777545000-1777550400@ouistreham-rivabella.fr
SUMMARY:Lectures & musique pour les petits
DESCRIPTION:Lectures & musique pour les petits avec Nuria\, professeure de musique \nJeudi 30 avril à 10h30 à la Bibliothèque \nPour les 0-3 ans \nSur inscription au 02 31 97 08 43
URL:https://ouistreham-rivabella.fr/event/lectures-musique-pour-les-petits-6/
LOCATION:Bibliothèque municipale\, 5 route de lion\, Ouistreham\, 14150\, France
ATTACH;FMTTYPE=image/jpeg:https://ouistreham-rivabella.fr/wp-content/uploads/2024/12/lecture-et-musique.jpg
END:VEVENT
BEGIN:VEVENT
DTSTART;TZID=Europe/Paris:20260430T140000
DTEND;TZID=Europe/Paris:20260430T170000
DTSTAMP:20260425T164950
CREATED:20260227T144449Z
LAST-MODIFIED:20260227T144449Z
UID:59001-1777557600-1777568400@ouistreham-rivabella.fr
SUMMARY:Tour à vélo « Sur les traces des Français du Commando Kieffer »
DESCRIPTION:Vous êtes passionnés par l’histoire du Débarquement ? L’Office de Tourisme de Caen la mer vous propose un véritable bol d’air ! Une conférence à vélo sur l’histoire des commandos franco-britanniques débarqués le 6 juin 1944 sur la plage de Sword Beach. Au départ de Ouistreham Riva-Bella en passant par Colleville-Montgomery\, Saint-Aubin-d’Arquenay\, Bénouville et commenté par l’historien Stéphane Simonnet\, qui vous fera le parcours des commandos afin de retracer leur histoire. \nJeudi 30 avril à 14h – Office de Tourisme \nRéservation : https://reservation.caenlamer-tourisme.fr/tour-a-velo-sur-les-traces-des-francais-du-commando-kieffer-1-1.html \nInfos pratiques : \n\nDistance : 18km\,\nDurée : 3h\nPrévoir : son propre vélo\, gourdes\, casque\nVélos non fournis\nSur réservation obligatoire\n12 personnes max\nEn dessous de 5 participants l’excursion est annulée\nÉvènement en partenariat avec Twisto.
URL:https://ouistreham-rivabella.fr/event/tour-a-velo-sur-les-traces-des-francais-du-commando-kieffer/
LOCATION:Office de Tourisme\, Esplanade Alexandre Lofi\, Ouistreham\, 14150\, France
ATTACH;FMTTYPE=image/jpeg:https://ouistreham-rivabella.fr/wp-content/uploads/2023/04/295414-Balade-a-velo-en-bord-de-mer-Caen-la-mer-Tourisme-Les-Conteurs-Droits-reserves-Office-de-Tourisme-des-Congres-780x560-1.jpg
END:VEVENT
BEGIN:VEVENT
DTSTART;TZID=Europe/Paris:20260430T173000
DTEND;TZID=Europe/Paris:20260430T183000
DTSTAMP:20260425T164950
CREATED:20260326T092447Z
LAST-MODIFIED:20260326T092447Z
UID:59343-1777570200-1777573800@ouistreham-rivabella.fr
SUMMARY:Conférence "A la découverte de la faune locale"
DESCRIPTION:Conférence « A la découverte de la faune locale » \nJeudi 30 avril à 17h30 – Le Pavillon \nAvec Baptiste Masson
URL:https://ouistreham-rivabella.fr/event/conference-a-la-decouverte-de-la-faune-locale/
LOCATION:Le Pavillon\, 11 rue des arts\, Ouistreham\, 14150\, France
ATTACH;FMTTYPE=image/jpeg:https://ouistreham-rivabella.fr/wp-content/uploads/2017/04/banc-oiseaux.jpg
END:VEVENT
BEGIN:VEVENT
DTSTART;VALUE=DATE:20260501
DTEND;VALUE=DATE:20260504
DTSTAMP:20260425T164950
CREATED:20260303T094037Z
LAST-MODIFIED:20260303T094037Z
UID:59115-1777593600-1777852799@ouistreham-rivabella.fr
SUMMARY:Grand Prix de Ouistreham
DESCRIPTION:Grand Prix de Ouistreham – Course semi-hauturière \nPar la SRCO \n1er au 3 mai – Port \nTarif : 60€ \nInformations : contact@srco.fr
URL:https://ouistreham-rivabella.fr/event/grand-prix-de-ouistreham/
LOCATION:Port\, Place du Général de Gaulle\, Ouistreham\, 14150\, France
ATTACH;FMTTYPE=image/jpeg:https://ouistreham-rivabella.fr/wp-content/uploads/2016/11/regates-srco-1.jpg
END:VEVENT
BEGIN:VEVENT
DTSTART;TZID=Europe/Paris:20260501T083000
DTEND;TZID=Europe/Paris:20260501T120000
DTSTAMP:20260425T164950
CREATED:20251104T094522Z
LAST-MODIFIED:20260323T132359Z
UID:57765-1777624200-1777636800@ouistreham-rivabella.fr
SUMMARY:Foulées du Muguet
DESCRIPTION:Les 37e Foulées du Muguet de Ouistreham Riva-Bella auront lieu le 1er mai\, comme tous les ans\, au départ du Poste de secours n°1 sur la plage.  \nCinq courses sont prévues cette année dont la populaire et emblématique Bédouine. Cette journée dédiée au sport est organisée par la Ville de Ouistreham Riva-Bella (Service des Sports – 02 31 97 73 27) en partenariat avec l’association Riva Courir. \nLES 5 COURSES\n\n9h30 : Cani cross\, 6km – Avec classement et chronométrée – 5€\n9h40: Marche nordique\, 6km – Avec classement et chronométrée – 5€\n10h30 : Kid cross : Poussins\, 1km (2015-2016) et Benjamins\, 2km (2013-2014) – GRATUITE\n11h : Epreuve enfants (2017 et après) – Sans classement – GRATUITE\n11h15 : La Bédouine – Course populaire – Sable et route – De minime (3km) à master (9km) – 10€ et gratuite pour la catégorie Minime (2011-2012).\n\nINSCRIPTIONS\nInscriptions en ligne jusqu’au jeudi 30 avril 12h sur : https://in.njuko.com/foulees-du-muguet-2026 \nOu auprès du Service des Sports de la Ville \nBulletin d’inscription et règlement (espèce ou chèque)\, à télécharger ici\, à retourner dûment complété avec l’attestation « Parcours de Prévention Santé » au Service des sports – Hôtel de Ville – Place Albert Lemarignier\, 14150 Ouistreham Riva-Bella. Avant le mardi 28 avril 2026 à 17h30. \nTélécharger le règlement de l’édition 2026 \nPARCOURS
URL:https://ouistreham-rivabella.fr/event/foulees-du-muguet-2/
LOCATION:Plage de Riva-Bella\, Plage de Riva Bella\, Ouistreham\, 14150\, France
ATTACH;FMTTYPE=image/jpeg:https://ouistreham-rivabella.fr/wp-content/uploads/2019/04/foulees-muguet-edition-2018.jpg
END:VEVENT
BEGIN:VEVENT
DTSTART;TZID=Europe/Paris:20260502T090000
DTEND;TZID=Europe/Paris:20260503T190000
DTSTAMP:20260425T164950
CREATED:20251119T103326Z
LAST-MODIFIED:20260413T095849Z
UID:57850-1777712400-1777834800@ouistreham-rivabella.fr
SUMMARY:Vik Wing 2026
DESCRIPTION:Vik Wing 2026 \n2 et 3 mai 2026 – 9h à 19h \nRéunir amateurs et professionnels de Wingfoil dans une ambiance conviviale \nÉvénement payant pour les participants\, ouvert à tous \nGratuit pour les spectateurs sur la digue de Ouistreham – Colleville-Montgomery
URL:https://ouistreham-rivabella.fr/event/vik-wing-2026/
LOCATION:Point Plage\, Boulevard Aristide Briand\, Ouistreham\, 14150\, France
ATTACH;FMTTYPE=image/jpeg:https://ouistreham-rivabella.fr/wp-content/uploads/2024/09/wing-foil-ocean-e1660231236671.jpg
END:VEVENT
BEGIN:VEVENT
DTSTART;TZID=Europe/Paris:20260502T104500
DTEND;TZID=Europe/Paris:20260502T121500
DTSTAMP:20260425T164950
CREATED:20251202T084938Z
LAST-MODIFIED:20251202T084938Z
UID:58073-1777718700-1777724100@ouistreham-rivabella.fr
SUMMARY:Atelier cirque en famille
DESCRIPTION:Découvrez le cirque en famille avec Bric Arts Brac \nSamedi 2 mai de 10h45 à 12h15 – Pavillon \nTarif : 17€ par famille \nInscription : 07 83 06 74 37 – bricartsbrac@hotmail.fr
URL:https://ouistreham-rivabella.fr/event/atelier-cirque-en-famille-10/
LOCATION:Le Pavillon\, 11 rue des arts\, Ouistreham\, 14150\, France
ATTACH;FMTTYPE=image/jpeg:https://ouistreham-rivabella.fr/wp-content/uploads/2024/08/cirque-jongle.jpg
END:VEVENT
BEGIN:VEVENT
DTSTART;TZID=Europe/Paris:20260502T120000
DTEND;TZID=Europe/Paris:20260503T173000
DTSTAMP:20260425T164950
CREATED:20260112T145258Z
LAST-MODIFIED:20260324T154229Z
UID:58588-1777723200-1777829400@ouistreham-rivabella.fr
SUMMARY:Tournoi d’échecs
DESCRIPTION:Tournoi d’échecs \nSamedi 2 et dimanche 3 mai – 12h à 17h30 – Grange aux Dîmes \nInscriptions : https://www.helloasso.com/associations/l-echiquier-de-l-hippocampe/evenements/1er-tournoi-international-d-echecs-ouistreham
URL:https://ouistreham-rivabella.fr/event/tournoi-dechecs/
LOCATION:Grange aux Dîmes\, Place Albert Lemarignier\, Ouistreham\, 14150\, France
ATTACH;FMTTYPE=image/jpeg:https://ouistreham-rivabella.fr/wp-content/uploads/2024/04/echec-chess.jpg
END:VEVENT
BEGIN:VEVENT
DTSTART;TZID=Europe/Paris:20260503T090000
DTEND;TZID=Europe/Paris:20260503T180000
DTSTAMP:20260425T164950
CREATED:20251014T074931Z
LAST-MODIFIED:20251014T075144Z
UID:57249-1777798800-1777831200@ouistreham-rivabella.fr
SUMMARY:Braderie
DESCRIPTION:Braderie au profit de Secours Libre\, association venant en aide aux familles en difficulté \nDimanche 3 mai – 9h-18h \n3 sites en simultané : 2 rue Victorien Debled\, 5 chemin du Maresquier et à la bouquinerie solidaire au Port
URL:https://ouistreham-rivabella.fr/event/braderie/
LOCATION:Secours Libre\, rue Victorien Debled\, Ouistreham\, 14150
ATTACH;FMTTYPE=image/jpeg:https://ouistreham-rivabella.fr/wp-content/uploads/2016/10/brocante.jpg
END:VEVENT
BEGIN:VEVENT
DTSTART;TZID=Europe/Paris:20260504T180000
DTEND;TZID=Europe/Paris:20260504T190000
DTSTAMP:20260425T164950
CREATED:20260413T081709Z
LAST-MODIFIED:20260413T081709Z
UID:59438-1777917600-1777921200@ouistreham-rivabella.fr
SUMMARY:Conférence sur le Grand comptage des mammifères marins
DESCRIPTION:Conférence sur le Grand comptage des mammifères marins \nLundi 4 mai à 18h au Pavillon \nEntrée libre \nPar le Groupe Mammalogique Normand
URL:https://ouistreham-rivabella.fr/event/conference-sur-le-grand-comptage-des-mammiferes-marins/
LOCATION:Le Pavillon\, 11 rue des arts\, Ouistreham\, 14150\, France
ATTACH;FMTTYPE=image/jpeg:https://ouistreham-rivabella.fr/wp-content/uploads/2024/07/phoque-plage.jpg
END:VEVENT
BEGIN:VEVENT
DTSTART;TZID=Europe/Paris:20260504T183000
DTEND;TZID=Europe/Paris:20260504T200000
DTSTAMP:20260425T164950
CREATED:20250925T072956Z
LAST-MODIFIED:20250925T072956Z
UID:56954-1777919400-1777924800@ouistreham-rivabella.fr
SUMMARY:Atelier d'écriture adultes
DESCRIPTION:Atelier d’écriture adultes avec l’association Artotem \nLundi 4 mai 2025 de 18h30 à 20h au Pavillon \nInscription : asso.artotem@gmail.com – 8€
URL:https://ouistreham-rivabella.fr/event/atelier-decriture-adultes-8/
LOCATION:Le Pavillon\, 11 rue des arts\, Ouistreham\, 14150\, France
ATTACH;FMTTYPE=image/jpeg:https://ouistreham-rivabella.fr/wp-content/uploads/2025/07/ecriture.jpg
END:VEVENT
BEGIN:VEVENT
DTSTART;TZID=Europe/Paris:20260506T100000
DTEND;TZID=Europe/Paris:20260506T120000
DTSTAMP:20260425T164950
CREATED:20251202T105900Z
LAST-MODIFIED:20251202T105900Z
UID:58127-1778061600-1778068800@ouistreham-rivabella.fr
SUMMARY:Atelier Familire
DESCRIPTION:Atelier Familire \nPromenade et ateliers en lectures\, à la découverte de Ouistreham Riva-Bella \nDès 6 ans \nMercredi 6 mai de 10h à 12h – lieu indiqué à l’inscription \nSur inscription au 02 31 97 08 43
URL:https://ouistreham-rivabella.fr/event/atelier-familire-7/
LOCATION:Bibliothèque municipale\, 5 route de lion\, Ouistreham\, 14150\, France
ATTACH;FMTTYPE=image/jpeg:https://ouistreham-rivabella.fr/wp-content/uploads/2019/11/vacances-enfants-page.jpg
END:VEVENT
BEGIN:VEVENT
DTSTART;TZID=Europe/Paris:20260506T150000
DTEND;TZID=Europe/Paris:20260506T170000
DTSTAMP:20260425T164950
CREATED:20251212T093042Z
LAST-MODIFIED:20251212T093042Z
UID:58328-1778079600-1778086800@ouistreham-rivabella.fr
SUMMARY:Le Rendez-vous des familles
DESCRIPTION:Le Rendez-vous des familles : bricolage\, dessins\, coloriage\, jeux… de nombreux ateliers pour toute la famille entre 6 et 12 ans \nMercredi 6 mai – 15h à 17h – Pavillon \nGratuit – sur inscription : tierslieu-ouistreham-rivabella.fr
URL:https://ouistreham-rivabella.fr/event/le-rendez-vous-des-familles-4/
LOCATION:Le Pavillon\, 11 rue des arts\, Ouistreham\, 14150\, France
ATTACH;FMTTYPE=image/jpeg:https://ouistreham-rivabella.fr/wp-content/uploads/2025/12/rendez-vous-des-familles.jpg
END:VEVENT
BEGIN:VEVENT
DTSTART;TZID=Europe/Paris:20260506T180000
DTEND;TZID=Europe/Paris:20260506T190000
DTSTAMP:20260425T164950
CREATED:20251030T080714Z
LAST-MODIFIED:20251030T080714Z
UID:57654-1778090400-1778094000@ouistreham-rivabella.fr
SUMMARY:Le café polyglotte
DESCRIPTION:Le café polyglotte \nEnvie d’expérimenter le sentiment d’appartenance au monde\, d’explorer les richesses culturelles de la planète à travers la pratique ou la découverte de langues étrangères et de faire des rencontres inoubliables : le Café Polyglotte est fait pour vous ! \nMercredi 6 mai à 18h – Pavillon \nLes Cafés polyglottes\, qu’est-ce que c’est ? \nCe sont des tables\, une même langue est parlée par les personnes qui se regroupent. Il s’agira de la langue qui aura été attribuée à la table par un drapeau d’un pays. Le but est de discuter dans une ou plusieurs langue(s) et de rencontrer des personnes qui apprennent une langue ou d’autres originaires de ce pays. Pour cette première rencontre vous y trouverez des tables où l’on parle espagnol\, anglais et italien\, mais aussi français et si vous parler une autre langue venez nous la faire découvrir. \nProposé par l’association OMAC et le centre socioculturel du Pavillon
URL:https://ouistreham-rivabella.fr/event/le-cafe-polyglotte-3/
LOCATION:Le Pavillon\, 11 rue des arts\, Ouistreham\, 14150\, France
ATTACH;FMTTYPE=image/jpeg:https://ouistreham-rivabella.fr/wp-content/uploads/2018/12/cafe-rencontre.jpg
END:VEVENT
BEGIN:VEVENT
DTSTART;TZID=Europe/Paris:20260508T070000
DTEND;TZID=Europe/Paris:20260510T170000
DTSTAMP:20260425T164950
CREATED:20260112T154712Z
LAST-MODIFIED:20260114T091718Z
UID:58592-1778223600-1778432400@ouistreham-rivabella.fr
SUMMARY:JUMP'EM
DESCRIPTION:JUMP’EM \nConcours Hippique \n8 au 10 mai – Plage \n\nVendredi : 7h à 17h\nSamedi : 7h30 à 18h\nDimanche : 8h à 17h
URL:https://ouistreham-rivabella.fr/event/jumpem/
LOCATION:Plage de Riva-Bella\, Plage de Riva Bella\, Ouistreham\, 14150\, France
ATTACH;FMTTYPE=image/jpeg:https://ouistreham-rivabella.fr/wp-content/uploads/2017/03/teaser-jumpem.jpg
END:VEVENT
BEGIN:VEVENT
DTSTART;TZID=Europe/Paris:20260508T113000
DTEND;TZID=Europe/Paris:20260508T120000
DTSTAMP:20260425T164950
CREATED:20260401T095528Z
LAST-MODIFIED:20260401T095613Z
UID:59415-1778239800-1778241600@ouistreham-rivabella.fr
SUMMARY:Cérémonie de commémoration du 8 mai 1945
DESCRIPTION:Cérémonie de commémoration du 8 mai 1945\, date à laquelle la Seconde Guerre mondiale prend officiellement fin sur le continent européen \nVendredi 8 mai à 11h30 – Monument aux morts
URL:https://ouistreham-rivabella.fr/event/ceremonie-de-commemoration-du-8-mai-1945/
LOCATION:Monument aux Morts\, Place Albert Lemarignier\, Ouistreham\, 14150\, France
ATTACH;FMTTYPE=image/jpeg:https://ouistreham-rivabella.fr/wp-content/uploads/2025/05/1-Monument-aux-morts-SophieMarteil-2-scaled.jpg
END:VEVENT
BEGIN:VEVENT
DTSTART;TZID=Europe/Paris:20260510T090000
DTEND;TZID=Europe/Paris:20260510T180000
DTSTAMP:20260425T164950
CREATED:20251201T100456Z
LAST-MODIFIED:20260116T105903Z
UID:58046-1778403600-1778436000@ouistreham-rivabella.fr
SUMMARY:Salon du collectionneur
DESCRIPTION:Salon du collectionneur \nPhilatélie\, cartes postales\, vinyles\, monnaies\, pins\, minéraux\, fèves\, bandes dessinées\, voitures miniatures… \nDimanche 10 mai – 9h à 18h – Gymnase Kieffer \nPour les exposants\, inscription : 02 31 84 28 36 \nEntrée : 1€ – Gratuit pour les -16 ans
URL:https://ouistreham-rivabella.fr/event/salon-du-collectionneur/
LOCATION:Stade Kieffer\, 85 Avenue Général Leclerc\, Ouistreham\, 14150\, France
ATTACH;FMTTYPE=image/jpeg:https://ouistreham-rivabella.fr/wp-content/uploads/2022/03/salon-du-collectionneur-ouistreham-1-scaled.jpg
END:VEVENT
BEGIN:VEVENT
DTSTART;VALUE=DATE:20260512
DTEND;VALUE=DATE:20260518
DTSTAMP:20260425T164950
CREATED:20260303T094500Z
LAST-MODIFIED:20260303T094500Z
UID:59130-1778544000-1779062399@ouistreham-rivabella.fr
SUMMARY:Rallye Calva's Cup
DESCRIPTION:Rallye Calva’s Cup \n12 au 17 mai – Port \nPar la SRCO \nTarif : 20€ \nInformations : contact@srco.fr
URL:https://ouistreham-rivabella.fr/event/rallye-calvas-cup/
LOCATION:Port\, Place du Général de Gaulle\, Ouistreham\, 14150\, France
ATTACH;FMTTYPE=image/jpeg:https://ouistreham-rivabella.fr/wp-content/uploads/2016/11/regates-srco-1.jpg
END:VEVENT
BEGIN:VEVENT
DTSTART;TZID=Europe/Paris:20260512T093000
DTEND;TZID=Europe/Paris:20260515T170000
DTSTAMP:20260425T164950
CREATED:20260211T132141Z
LAST-MODIFIED:20260211T132141Z
UID:58879-1778578200-1778864400@ouistreham-rivabella.fr
SUMMARY:Du Chant dans les Voiles
DESCRIPTION:Du Chant dans les Voiles \nStage de Chant par la Chorale de Ouistreham \n12 au 15 mai – 9h30 à 17h – Grange aux Dîmes \nInscriptions : 06 88 34 87 93
URL:https://ouistreham-rivabella.fr/event/du-chant-dans-les-voiles/
LOCATION:Grange aux Dîmes\, Place Albert Lemarignier\, Ouistreham\, 14150\, France
ATTACH;FMTTYPE=image/jpeg:https://ouistreham-rivabella.fr/wp-content/uploads/2026/02/chorale.jpg
END:VEVENT
BEGIN:VEVENT
DTSTART;TZID=Europe/Paris:20260512T140000
DTEND;TZID=Europe/Paris:20260512T170000
DTSTAMP:20260425T164950
CREATED:20260227T144559Z
LAST-MODIFIED:20260227T144559Z
UID:59004-1778594400-1778605200@ouistreham-rivabella.fr
SUMMARY:Tour à vélo « Sur les traces des Français du Commando Kieffer »
DESCRIPTION:Vous êtes passionnés par l’histoire du Débarquement ? L’Office de Tourisme de Caen la mer vous propose un véritable bol d’air ! Une conférence à vélo sur l’histoire des commandos franco-britanniques débarqués le 6 juin 1944 sur la plage de Sword Beach. Au départ de Ouistreham Riva-Bella en passant par Colleville-Montgomery\, Saint-Aubin-d’Arquenay\, Bénouville et commenté par l’historien Stéphane Simonnet\, qui vous fera le parcours des commandos afin de retracer leur histoire. \nMardi 12 mai à 14h – Office de Tourisme \nRéservation : https://reservation.caenlamer-tourisme.fr/tour-a-velo-sur-les-traces-des-francais-du-commando-kieffer-1-1.html \nInfos pratiques : \n\nDistance : 18km\,\nDurée : 3h\nPrévoir : son propre vélo\, gourdes\, casque\nVélos non fournis\nSur réservation obligatoire\n12 personnes max\nEn dessous de 5 participants l’excursion est annulée\nÉvènement en partenariat avec Twisto.
URL:https://ouistreham-rivabella.fr/event/tour-a-velo-sur-les-traces-des-francais-du-commando-kieffer-2/
LOCATION:Office de Tourisme\, Esplanade Alexandre Lofi\, Ouistreham\, 14150\, France
ATTACH;FMTTYPE=image/jpeg:https://ouistreham-rivabella.fr/wp-content/uploads/2023/04/295414-Balade-a-velo-en-bord-de-mer-Caen-la-mer-Tourisme-Les-Conteurs-Droits-reserves-Office-de-Tourisme-des-Congres-780x560-1.jpg
END:VEVENT
BEGIN:VEVENT
DTSTART;TZID=Europe/Paris:20260512T190000
DTEND;TZID=Europe/Paris:20260512T200000
DTSTAMP:20260425T164950
CREATED:20260413T081752Z
LAST-MODIFIED:20260413T081752Z
UID:59441-1778612400-1778616000@ouistreham-rivabella.fr
SUMMARY:Conférence sur le Grand comptage des mammifères marins
DESCRIPTION:Conférence sur le Grand comptage des mammifères marins \nMercredi 12 mai à 19h au Pavillon \nEntrée libre \nPar le Groupe Mammalogique Normand
URL:https://ouistreham-rivabella.fr/event/conference-sur-le-grand-comptage-des-mammiferes-marins-2/
LOCATION:Le Pavillon\, 11 rue des arts\, Ouistreham\, 14150\, France
ATTACH;FMTTYPE=image/jpeg:https://ouistreham-rivabella.fr/wp-content/uploads/2024/07/phoque-plage.jpg
END:VEVENT
BEGIN:VEVENT
DTSTART;TZID=Europe/Paris:20260513T193000
DTEND;TZID=Europe/Paris:20260513T210000
DTSTAMP:20260425T164950
CREATED:20260417T141416Z
LAST-MODIFIED:20260417T141416Z
UID:59781-1778700600-1778706000@ouistreham-rivabella.fr
SUMMARY:Projection "Les Normands: une épopée européenne"
DESCRIPTION:Projection « Les Normands: une épopée européenne » \nMercredi 13 mai 2026 à 19h30 – Cinéma Le Cabieu \nAu programme :  Une immersion historique unique à travers deux documentaires captivants : \n\n« Les Normands\, une Histoire Européenne » : des Vikings du Nord au Duché de Guillaume et Roger Ier\n« Altavilla\, l’Héritage des Normands en Sicile » : Le Roi Roger II\, un règne marqué par la tolérance\, la culture et le pouvoir\n\nCette soirée  proposera projections\, débats et échanges sur l’empreinte normande qui a façonné l’Europe\, de la Scandinavie à la Méditerranée. Un héritage aujourd’hui classé au Patrimoine mondial de l’UNESCO.
URL:https://ouistreham-rivabella.fr/event/projection-les-normands-une-epopee-europeenne/
LOCATION:Cinéma Le Cabieu\, 5 avenue Michel Cabieu\, Ouistreham\, 14150\, France
ATTACH;FMTTYPE=image/png:https://ouistreham-rivabella.fr/wp-content/uploads/2026/04/Capture-decran-2026-04-17-161401.png
END:VEVENT
BEGIN:VEVENT
DTSTART;TZID=Europe/Paris:20260514T080000
DTEND;TZID=Europe/Paris:20260515T220000
DTSTAMP:20260425T164950
CREATED:20260423T125609Z
LAST-MODIFIED:20260423T125609Z
UID:59815-1778745600-1778882400@ouistreham-rivabella.fr
SUMMARY:Tournoi de tennis de table
DESCRIPTION:Tournoi de tennis de table \nJeudi 14 et vendredi 15 mai – 8h à 22h – Gymnase Kieffer
URL:https://ouistreham-rivabella.fr/event/tournoi-de-tennis-de-table/
LOCATION:Stade Kieffer\, 85 Avenue Général Leclerc\, Ouistreham\, 14150\, France
ATTACH;FMTTYPE=image/jpeg:https://ouistreham-rivabella.fr/wp-content/uploads/2017/10/ping-pong.jpg
END:VEVENT
BEGIN:VEVENT
DTSTART;TZID=Europe/Paris:20260516T100000
DTEND;TZID=Europe/Paris:20260517T183000
DTSTAMP:20260425T164950
CREATED:20260415T075951Z
LAST-MODIFIED:20260415T075951Z
UID:59697-1778925600-1779042600@ouistreham-rivabella.fr
SUMMARY:Fête des artistes
DESCRIPTION:Fête des artistes \nExposition de peintures \nSamedi 16 et dimanche 17 mai – 10h à 18h30 – Avenue de la mer
URL:https://ouistreham-rivabella.fr/event/fete-des-artistes-3/
LOCATION:Avenue de la mer\, Avenue de la mer\, Ouistreham\, 14150\, France
ATTACH;FMTTYPE=image/jpeg:https://ouistreham-rivabella.fr/wp-content/uploads/2017/03/artistes.jpg
END:VEVENT
BEGIN:VEVENT
DTSTART;TZID=Europe/Paris:20260516T203000
DTEND;TZID=Europe/Paris:20260516T220000
DTSTAMP:20260425T164950
CREATED:20251201T155357Z
LAST-MODIFIED:20260211T092725Z
UID:58057-1778963400-1778968800@ouistreham-rivabella.fr
SUMMARY:Concert de la Chorale de Ouistreham
DESCRIPTION:Concert de la Chorale de Ouistreham « Chansons françaises sous influence » \nSamedi 16 mai à 20h30 – Gymnase Legoupil \nTarifs : 12€ adultes / 8€ enfants \nInformations : robertlacour@sfr.fr
URL:https://ouistreham-rivabella.fr/event/concert-chorale-ouistreham/
LOCATION:Salle-Gymnase Legoupil\, 21 rue des dunes\, Ouistreham\, 14150\, France
ATTACH;FMTTYPE=image/jpeg:https://ouistreham-rivabella.fr/wp-content/uploads/2016/10/musique-concert.jpg
END:VEVENT
END:VCALENDAR