BEGIN:VCALENDAR
VERSION:2.0
PRODID:-//Ouistreham Riva-Bella - ECPv6.15.20//NONSGML v1.0//EN
CALSCALE:GREGORIAN
METHOD:PUBLISH
X-WR-CALNAME:Ouistreham Riva-Bella
X-ORIGINAL-URL:https://ouistreham-rivabella.fr
X-WR-CALDESC:Évènements pour Ouistreham Riva-Bella
REFRESH-INTERVAL;VALUE=DURATION:PT1H
X-Robots-Tag:noindex
X-PUBLISHED-TTL:PT1H
BEGIN:VTIMEZONE
TZID:Europe/Paris
BEGIN:DAYLIGHT
TZOFFSETFROM:+0100
TZOFFSETTO:+0200
TZNAME:CEST
DTSTART:20250330T010000
END:DAYLIGHT
BEGIN:STANDARD
TZOFFSETFROM:+0200
TZOFFSETTO:+0100
TZNAME:CET
DTSTART:20251026T010000
END:STANDARD
BEGIN:DAYLIGHT
TZOFFSETFROM:+0100
TZOFFSETTO:+0200
TZNAME:CEST
DTSTART:20260329T010000
END:DAYLIGHT
BEGIN:STANDARD
TZOFFSETFROM:+0200
TZOFFSETTO:+0100
TZNAME:CET
DTSTART:20261025T010000
END:STANDARD
BEGIN:DAYLIGHT
TZOFFSETFROM:+0100
TZOFFSETTO:+0200
TZNAME:CEST
DTSTART:20270328T010000
END:DAYLIGHT
BEGIN:STANDARD
TZOFFSETFROM:+0200
TZOFFSETTO:+0100
TZNAME:CET
DTSTART:20271031T010000
END:STANDARD
END:VTIMEZONE
BEGIN:VEVENT
DTSTART;TZID=Europe/Paris:20260423T100000
DTEND;TZID=Europe/Paris:20260424T120000
DTSTAMP:20260424T033914
CREATED:20260421T124642Z
LAST-MODIFIED:20260421T124642Z
UID:59802-1776938400-1777032000@ouistreham-rivabella.fr
SUMMARY:Stage de breakdance
DESCRIPTION:Stage de breakdance \nJeudi 23 et vendredi 24 avril –  10h à 12h – Pavillon \nTous niveaux et tous âges. \nTarifs : 50 € ; 40 € pour les adhérents Nothesame \nInscriptions : www.nothesame.fr
URL:https://ouistreham-rivabella.fr/event/stage-de-breakdance/
LOCATION:Le Pavillon\, 11 rue des arts\, Ouistreham\, 14150\, France
ATTACH;FMTTYPE=image/jpeg:https://ouistreham-rivabella.fr/wp-content/uploads/2018/06/Breakdance_en_una_plaza_de_Barcelona.jpg
END:VEVENT
BEGIN:VEVENT
DTSTART;TZID=Europe/Paris:20260424T143000
DTEND;TZID=Europe/Paris:20260424T160000
DTSTAMP:20260424T033914
CREATED:20251212T140909Z
LAST-MODIFIED:20251212T140909Z
UID:58454-1777041000-1777046400@ouistreham-rivabella.fr
SUMMARY:Atelier d'initiation à la peinture Japonaise
DESCRIPTION:Atelier d’initiation à la peinture Japonaise Sumi-e et Nihonga\, avec l’artiste Philippe Lavaine en résidence à la maison des artistes de Ouistreham Riva-Bella \nVendredi 24 avril de 14h30 à 16h – Pavillon \nPour adultes \nGratuit sur inscription : tierslieu-ouistreham-rivabella.fr
URL:https://ouistreham-rivabella.fr/event/atelier-dinitiation-a-la-peinture-japonaise-4/
LOCATION:Le Pavillon\, 11 rue des arts\, Ouistreham\, 14150\, France
ATTACH;FMTTYPE=image/jpeg:https://ouistreham-rivabella.fr/wp-content/uploads/2025/12/peinture-japon.jpg
END:VEVENT
END:VCALENDAR