BEGIN:VCALENDAR
VERSION:2.0
PRODID:-//Ouistreham Riva-Bella - ECPv6.15.20//NONSGML v1.0//EN
CALSCALE:GREGORIAN
METHOD:PUBLISH
X-WR-CALNAME:Ouistreham Riva-Bella
X-ORIGINAL-URL:https://ouistreham-rivabella.fr
X-WR-CALDESC:Évènements pour Ouistreham Riva-Bella
REFRESH-INTERVAL;VALUE=DURATION:PT1H
X-Robots-Tag:noindex
X-PUBLISHED-TTL:PT1H
BEGIN:VTIMEZONE
TZID:Europe/Paris
BEGIN:DAYLIGHT
TZOFFSETFROM:+0100
TZOFFSETTO:+0200
TZNAME:CEST
DTSTART:20250330T010000
END:DAYLIGHT
BEGIN:STANDARD
TZOFFSETFROM:+0200
TZOFFSETTO:+0100
TZNAME:CET
DTSTART:20251026T010000
END:STANDARD
BEGIN:DAYLIGHT
TZOFFSETFROM:+0100
TZOFFSETTO:+0200
TZNAME:CEST
DTSTART:20260329T010000
END:DAYLIGHT
BEGIN:STANDARD
TZOFFSETFROM:+0200
TZOFFSETTO:+0100
TZNAME:CET
DTSTART:20261025T010000
END:STANDARD
BEGIN:DAYLIGHT
TZOFFSETFROM:+0100
TZOFFSETTO:+0200
TZNAME:CEST
DTSTART:20270328T010000
END:DAYLIGHT
BEGIN:STANDARD
TZOFFSETFROM:+0200
TZOFFSETTO:+0100
TZNAME:CET
DTSTART:20271031T010000
END:STANDARD
END:VTIMEZONE
BEGIN:VEVENT
DTSTART;TZID=Europe/Paris:20260422T140000
DTEND;TZID=Europe/Paris:20260422T170000
DTSTAMP:20260422T235910
CREATED:20251212T103547Z
LAST-MODIFIED:20251212T103547Z
UID:58364-1776866400-1776877200@ouistreham-rivabella.fr
SUMMARY:Initiation Harmonica
DESCRIPTION:Découvre cet instrument rigolo et fais tes premiers sons en t’amusant ! \nMercredi 22 avril à 14h\, 15h et 16h – Pavillon \nPour les enfants de  8/14 ans accompagné d’un adulte \nGratuit – sur inscription : tierslieu-ouistreham-rivabella.fr
URL:https://ouistreham-rivabella.fr/event/initiation-harmonica-3/
LOCATION:Le Pavillon\, 11 rue des arts\, Ouistreham\, 14150\, France
ATTACH;FMTTYPE=image/jpeg:https://ouistreham-rivabella.fr/wp-content/uploads/2025/10/harmonica-4577785_1280-e1760350219107.jpg
END:VEVENT
BEGIN:VEVENT
DTSTART;TZID=Europe/Paris:20260422T153000
DTEND;TZID=Europe/Paris:20260422T170000
DTSTAMP:20260422T235910
CREATED:20251202T131720Z
LAST-MODIFIED:20251202T131720Z
UID:58167-1776871800-1776877200@ouistreham-rivabella.fr
SUMMARY:Heure du Conte
DESCRIPTION:Heure du Conte – Trois histoires à partager \nMercredi 22 avril à 15h30 – Bibliothèque \nA partir de 3 ans \nEntrée libre
URL:https://ouistreham-rivabella.fr/event/heure-du-conte-4/
LOCATION:Bibliothèque municipale\, 5 route de lion\, Ouistreham\, 14150\, France
ATTACH;FMTTYPE=image/jpeg:https://ouistreham-rivabella.fr/wp-content/uploads/2023/01/lecture-livre.jpg
END:VEVENT
END:VCALENDAR